BEGIN:VCALENDAR
VERSION:2.0
PRODID:-//Riverstone International School - ECPv6.15.14//NONSGML v1.0//EN
CALSCALE:GREGORIAN
METHOD:PUBLISH
X-WR-CALNAME:Riverstone International School
X-ORIGINAL-URL:https://www.riverstoneschool.org
X-WR-CALDESC:Events for Riverstone International School
REFRESH-INTERVAL;VALUE=DURATION:PT1H
X-Robots-Tag:noindex
X-PUBLISHED-TTL:PT1H
BEGIN:VTIMEZONE
TZID:America/Denver
BEGIN:DAYLIGHT
TZOFFSETFROM:-0700
TZOFFSETTO:-0600
TZNAME:MDT
DTSTART:20250309T090000
END:DAYLIGHT
BEGIN:STANDARD
TZOFFSETFROM:-0600
TZOFFSETTO:-0700
TZNAME:MST
DTSTART:20251102T080000
END:STANDARD
BEGIN:DAYLIGHT
TZOFFSETFROM:-0700
TZOFFSETTO:-0600
TZNAME:MDT
DTSTART:20260308T090000
END:DAYLIGHT
BEGIN:STANDARD
TZOFFSETFROM:-0600
TZOFFSETTO:-0700
TZNAME:MST
DTSTART:20261101T080000
END:STANDARD
BEGIN:DAYLIGHT
TZOFFSETFROM:-0700
TZOFFSETTO:-0600
TZNAME:MDT
DTSTART:20270314T090000
END:DAYLIGHT
BEGIN:STANDARD
TZOFFSETFROM:-0600
TZOFFSETTO:-0700
TZNAME:MST
DTSTART:20271107T080000
END:STANDARD
END:VTIMEZONE
BEGIN:VEVENT
DTSTART;VALUE=DATE:20261211
DTEND;VALUE=DATE:20261212
DTSTAMP:20260423T025531
CREATED:20260202T193637Z
LAST-MODIFIED:20260423T080526Z
UID:2523-1796947200-1797033599@www.riverstoneschool.org
SUMMARY:Friday Morning Music
DESCRIPTION:
URL:https://www.riverstoneschool.org/event/friday-morning-music-4/
CATEGORIES:Elementary School
END:VEVENT
BEGIN:VEVENT
DTSTART;VALUE=DATE:20261211
DTEND;VALUE=DATE:20261212
DTSTAMP:20260423T025531
CREATED:20260202T193638Z
LAST-MODIFIED:20260423T080525Z
UID:2524-1796947200-1797033599@www.riverstoneschool.org
SUMMARY:ES Sem. 1 report
DESCRIPTION:
URL:https://www.riverstoneschool.org/event/es-sem-1-report/
CATEGORIES:Elementary School
END:VEVENT
BEGIN:VEVENT
DTSTART;VALUE=DATE:20261211
DTEND;VALUE=DATE:20261212
DTSTAMP:20260423T025531
CREATED:20260202T200744Z
LAST-MODIFIED:20260423T040710Z
UID:2551-1796947200-1797033599@www.riverstoneschool.org
SUMMARY:HS Movie Night
DESCRIPTION:
URL:https://www.riverstoneschool.org/event/hs-movie-night-2/
CATEGORIES:High School
END:VEVENT
END:VCALENDAR