BEGIN:VCALENDAR
VERSION:2.0
PRODID:-//Riverstone International School - ECPv6.15.14//NONSGML v1.0//EN
CALSCALE:GREGORIAN
METHOD:PUBLISH
X-ORIGINAL-URL:https://www.riverstoneschool.org
X-WR-CALDESC:Events for Riverstone International School
REFRESH-INTERVAL;VALUE=DURATION:PT1H
X-Robots-Tag:noindex
X-PUBLISHED-TTL:PT1H
BEGIN:VTIMEZONE
TZID:America/Denver
BEGIN:DAYLIGHT
TZOFFSETFROM:-0700
TZOFFSETTO:-0600
TZNAME:MDT
DTSTART:20260308T090000
END:DAYLIGHT
BEGIN:STANDARD
TZOFFSETFROM:-0600
TZOFFSETTO:-0700
TZNAME:MST
DTSTART:20261101T080000
END:STANDARD
BEGIN:DAYLIGHT
TZOFFSETFROM:-0700
TZOFFSETTO:-0600
TZNAME:MDT
DTSTART:20270314T090000
END:DAYLIGHT
BEGIN:STANDARD
TZOFFSETFROM:-0600
TZOFFSETTO:-0700
TZNAME:MST
DTSTART:20271107T080000
END:STANDARD
BEGIN:DAYLIGHT
TZOFFSETFROM:-0700
TZOFFSETTO:-0600
TZNAME:MDT
DTSTART:20280312T090000
END:DAYLIGHT
BEGIN:STANDARD
TZOFFSETFROM:-0600
TZOFFSETTO:-0700
TZNAME:MST
DTSTART:20281105T080000
END:STANDARD
END:VTIMEZONE
BEGIN:VEVENT
DTSTART;VALUE=DATE:20270311
DTEND;VALUE=DATE:20270312
DTSTAMP:20260423T070800
CREATED:20260202T201948Z
LAST-MODIFIED:20260423T060427Z
UID:2609-1804723200-1804809599@www.riverstoneschool.org
SUMMARY:Teacher Conferences/early release
DESCRIPTION:
URL:https://www.riverstoneschool.org/event/teacher-conferences-early-release/
CATEGORIES:All School
END:VEVENT
BEGIN:VEVENT
DTSTART;VALUE=DATE:20270312
DTEND;VALUE=DATE:20270313
DTSTAMP:20260423T070800
CREATED:20260202T201948Z
LAST-MODIFIED:20260423T060427Z
UID:2608-1804809600-1804895999@www.riverstoneschool.org
SUMMARY:No School - Teacher Conferences
DESCRIPTION:
URL:https://www.riverstoneschool.org/event/no-school-teacher-conferences/
CATEGORIES:All School
END:VEVENT
BEGIN:VEVENT
DTSTART;VALUE=DATE:20270315
DTEND;VALUE=DATE:20270327
DTSTAMP:20260423T070800
CREATED:20260202T201948Z
LAST-MODIFIED:20260423T060427Z
UID:2610-1805068800-1806105599@www.riverstoneschool.org
SUMMARY:No School - Spring Break
DESCRIPTION:
URL:https://www.riverstoneschool.org/event/no-school-spring-break-2/
CATEGORIES:All School
END:VEVENT
BEGIN:VEVENT
DTSTART;VALUE=DATE:20270321
DTEND;VALUE=DATE:20270329
DTSTAMP:20260423T070800
CREATED:20260202T190619Z
LAST-MODIFIED:20260423T044950Z
UID:2496-1805587200-1806278399@www.riverstoneschool.org
SUMMARY:MS/HS Spring Break Trips
DESCRIPTION:
URL:https://www.riverstoneschool.org/event/ms-hs-spring-break-trips/
CATEGORIES:Middle School
END:VEVENT
BEGIN:VEVENT
DTSTART;VALUE=DATE:20270321
DTEND;VALUE=DATE:20270329
DTSTAMP:20260423T070800
CREATED:20260202T200745Z
LAST-MODIFIED:20260423T040713Z
UID:2560-1805587200-1806278399@www.riverstoneschool.org
SUMMARY:College Trip
DESCRIPTION:
URL:https://www.riverstoneschool.org/event/college-trip-2/
CATEGORIES:High School
END:VEVENT
BEGIN:VEVENT
DTSTART;VALUE=DATE:20270321
DTEND;VALUE=DATE:20270329
DTSTAMP:20260423T070800
CREATED:20260202T200746Z
LAST-MODIFIED:20260423T040712Z
UID:2561-1805587200-1806278399@www.riverstoneschool.org
SUMMARY:MS/HS Spring Break Trips
DESCRIPTION:
URL:https://www.riverstoneschool.org/event/ms-hs-spring-break-trips-2/
CATEGORIES:High School
END:VEVENT
BEGIN:VEVENT
DTSTART;TZID=America/Denver:20270327T140000
DTEND;TZID=America/Denver:20270327T143000
DTSTAMP:20260423T070800
CREATED:20260202T200745Z
LAST-MODIFIED:20260423T040713Z
UID:2558-1806156000-1806157800@www.riverstoneschool.org
SUMMARY:Riverstone House reopens
DESCRIPTION:
URL:https://www.riverstoneschool.org/event/riverstone-house-reopens/
CATEGORIES:High School
END:VEVENT
BEGIN:VEVENT
DTSTART;VALUE=DATE:20270329
DTEND;VALUE=DATE:20270330
DTSTAMP:20260423T070800
CREATED:20260202T201948Z
LAST-MODIFIED:20260423T060427Z
UID:2611-1806278400-1806364799@www.riverstoneschool.org
SUMMARY:School Resumes
DESCRIPTION:
URL:https://www.riverstoneschool.org/event/school-resumes-3/
CATEGORIES:All School
END:VEVENT
BEGIN:VEVENT
DTSTART;VALUE=DATE:20270329
DTEND;VALUE=DATE:20270403
DTSTAMP:20260423T070800
CREATED:20260202T200745Z
LAST-MODIFIED:20260423T040714Z
UID:2559-1806278400-1806710399@www.riverstoneschool.org
SUMMARY:Grade 10 College Tour
DESCRIPTION:
URL:https://www.riverstoneschool.org/event/grade-10-college-tour/
CATEGORIES:High School
END:VEVENT
END:VCALENDAR